BEGIN:VCALENDAR
VERSION:2.0
PRODID:-//DJAARA (Dja Dja Wurrung Clans Aboriginal Corporation) - ECPv6.15.20//NONSGML v1.0//EN
CALSCALE:GREGORIAN
METHOD:PUBLISH
X-ORIGINAL-URL:https://djadjawurrung.com.au
X-WR-CALDESC:Events for DJAARA (Dja Dja Wurrung Clans Aboriginal Corporation)
REFRESH-INTERVAL;VALUE=DURATION:PT1H
X-Robots-Tag:noindex
X-PUBLISHED-TTL:PT1H
BEGIN:VTIMEZONE
TZID:Australia/Melbourne
BEGIN:STANDARD
TZOFFSETFROM:+1100
TZOFFSETTO:+1000
TZNAME:AEST
DTSTART:20240406T160000
END:STANDARD
BEGIN:DAYLIGHT
TZOFFSETFROM:+1000
TZOFFSETTO:+1100
TZNAME:AEDT
DTSTART:20241005T160000
END:DAYLIGHT
BEGIN:STANDARD
TZOFFSETFROM:+1100
TZOFFSETTO:+1000
TZNAME:AEST
DTSTART:20250405T160000
END:STANDARD
BEGIN:DAYLIGHT
TZOFFSETFROM:+1000
TZOFFSETTO:+1100
TZNAME:AEDT
DTSTART:20251004T160000
END:DAYLIGHT
BEGIN:STANDARD
TZOFFSETFROM:+1100
TZOFFSETTO:+1000
TZNAME:AEST
DTSTART:20260404T160000
END:STANDARD
BEGIN:DAYLIGHT
TZOFFSETFROM:+1000
TZOFFSETTO:+1100
TZNAME:AEDT
DTSTART:20261003T160000
END:DAYLIGHT
END:VTIMEZONE
BEGIN:VEVENT
DTSTART;VALUE=DATE:20250308
DTEND;VALUE=DATE:20250309
DTSTAMP:20260423T090237
CREATED:20250804T053622Z
LAST-MODIFIED:20250804T061508Z
UID:10000102-1741392000-1741478399@djadjawurrung.com.au
SUMMARY:International Women’s Day
DESCRIPTION:
URL:https://djadjawurrung.com.au/event/international-womens-day-4/2025-03-08/
CATEGORIES:djaara,Important Dates,Public
END:VEVENT
BEGIN:VEVENT
DTSTART;VALUE=DATE:20250321
DTEND;VALUE=DATE:20250322
DTSTAMP:20260423T090237
CREATED:20250804T053655Z
LAST-MODIFIED:20250804T061443Z
UID:10000108-1742515200-1742601599@djadjawurrung.com.au
SUMMARY:National Close The Gap Day
DESCRIPTION:
URL:https://djadjawurrung.com.au/event/national-close-the-gap-day-3/2025-03-21/
CATEGORIES:djaara,Important Dates,Public
END:VEVENT
BEGIN:VEVENT
DTSTART;VALUE=DATE:20250321
DTEND;VALUE=DATE:20250322
DTSTAMP:20260423T090237
CREATED:20250804T053733Z
LAST-MODIFIED:20250804T061415Z
UID:10000114-1742515200-1742601599@djadjawurrung.com.au
SUMMARY:Harmony Day
DESCRIPTION:
URL:https://djadjawurrung.com.au/event/harmony-day-3/2025-03-21/
CATEGORIES:djaara,Important Dates,Public
END:VEVENT
BEGIN:VEVENT
DTSTART;VALUE=DATE:20250328
DTEND;VALUE=DATE:20250329
DTSTAMP:20260423T090237
CREATED:20250804T053805Z
LAST-MODIFIED:20250804T061330Z
UID:10000120-1743120000-1743206399@djadjawurrung.com.au
SUMMARY:Anniversary of the signing of the Recognition and Settlement Agreement (2013)
DESCRIPTION:
URL:https://djadjawurrung.com.au/event/anniversary-of-the-signing-of-the-recognition-and-settlement-agreement-2013-3/2025-03-28/
CATEGORIES:djaara,Important Dates,Public
END:VEVENT
END:VCALENDAR