BEGIN:VCALENDAR
VERSION:2.0
PRODID:-//DJAARA (Dja Dja Wurrung Clans Aboriginal Corporation) - ECPv6.15.20//NONSGML v1.0//EN
CALSCALE:GREGORIAN
METHOD:PUBLISH
X-WR-CALNAME:DJAARA (Dja Dja Wurrung Clans Aboriginal Corporation)
X-ORIGINAL-URL:https://djadjawurrung.com.au
X-WR-CALDESC:Events for DJAARA (Dja Dja Wurrung Clans Aboriginal Corporation)
REFRESH-INTERVAL;VALUE=DURATION:PT1H
X-Robots-Tag:noindex
X-PUBLISHED-TTL:PT1H
BEGIN:VTIMEZONE
TZID:Australia/Melbourne
BEGIN:STANDARD
TZOFFSETFROM:+1100
TZOFFSETTO:+1000
TZNAME:AEST
DTSTART:20230401T160000
END:STANDARD
BEGIN:DAYLIGHT
TZOFFSETFROM:+1000
TZOFFSETTO:+1100
TZNAME:AEDT
DTSTART:20230930T160000
END:DAYLIGHT
BEGIN:STANDARD
TZOFFSETFROM:+1100
TZOFFSETTO:+1000
TZNAME:AEST
DTSTART:20240406T160000
END:STANDARD
BEGIN:DAYLIGHT
TZOFFSETFROM:+1000
TZOFFSETTO:+1100
TZNAME:AEDT
DTSTART:20241005T160000
END:DAYLIGHT
BEGIN:STANDARD
TZOFFSETFROM:+1100
TZOFFSETTO:+1000
TZNAME:AEST
DTSTART:20250405T160000
END:STANDARD
BEGIN:DAYLIGHT
TZOFFSETFROM:+1000
TZOFFSETTO:+1100
TZNAME:AEDT
DTSTART:20251004T160000
END:DAYLIGHT
END:VTIMEZONE
BEGIN:VEVENT
DTSTART;TZID=Australia/Melbourne:20240904T080000
DTEND;TZID=Australia/Melbourne:20240904T170000
DTSTAMP:20260423T191814
CREATED:20240227T030211Z
LAST-MODIFIED:20240304T053457Z
UID:10000079-1725436800-1725469200@djadjawurrung.com.au
SUMMARY:Indigenous Literacy Day
DESCRIPTION:
URL:https://djadjawurrung.com.au/event/indigenous-literacy-day/
CATEGORIES:djaara,Important Dates,Public
END:VEVENT
BEGIN:VEVENT
DTSTART;VALUE=DATE:20240913
DTEND;VALUE=DATE:20240914
DTSTAMP:20260423T191814
CREATED:20240227T030246Z
LAST-MODIFIED:20240304T053352Z
UID:10000080-1726185600-1726271999@djadjawurrung.com.au
SUMMARY:Anniversary of the UN Declaration on the Rights of Indigenous People
DESCRIPTION:
URL:https://djadjawurrung.com.au/event/anniversary-of-the-un-declaration-on-the-rights-of-indigenous-people/
CATEGORIES:djaara,Important Dates,Public
END:VEVENT
END:VCALENDAR